BEGIN:VCALENDAR
VERSION:2.0
PRODID:spatie/icalendar-generator
DESCRIPTION:Events from Rolling Thunder
X-WR-CALDESC:Events from Rolling Thunder
REFRESH-INTERVAL;VALUE=DURATION:PT1440M
X-PUBLISHED-TTL:PT1440M
BEGIN:VTIMEZONE
TZID:Etc/GMT+6
BEGIN:STANDARD
DTSTART:20250801T080000Z
TZOFFSETFROM:-0600
TZOFFSETTO:-0600
END:STANDARD
END:VTIMEZONE
BEGIN:VTIMEZONE
TZID:UTC
BEGIN:STANDARD
DTSTART:20250724T103826Z
TZOFFSETFROM:+0000
TZOFFSETTO:+0000
END:STANDARD
END:VTIMEZONE
BEGIN:VEVENT
UID:38-33
DTSTAMP:20260420T103826Z
SUMMARY:Coffee with a Vet
LOCATION:VA Clinic (Evansville) 6211 Waterford Blvd  Evansville IN 47715
ORGANIZER;CN=Warren Montgomery:MAILTO:warren.k.montgomery@gmail.com
DTSTART;TZID=Etc/GMT+6:20260428T080000
DTEND;TZID=Etc/GMT+6:20260428T110000
X-ALT-DESC;FMTTYPE=TEXT/HTML:Please come visit us as we visit with our Vete
 rans
CATEGORIES:General
URL;VALUE=URI:https://rollingthunderin6.com/mc-events/coffee-with-a-vet-2/
METHOD:PUBLISH
END:VEVENT
END:VCALENDAR